BEGIN:VCALENDAR
VERSION:2.0
PRODID:-//St. Peder&#039;s Lutheran Church ┃Longfellow Minneapolis - ECPv6.15.20//NONSGML v1.0//EN
CALSCALE:GREGORIAN
METHOD:PUBLISH
X-WR-CALNAME:St. Peder&#039;s Lutheran Church ┃Longfellow Minneapolis
X-ORIGINAL-URL:https://www.stpeders.org
X-WR-CALDESC:Events for St. Peder&#039;s Lutheran Church ┃Longfellow Minneapolis
REFRESH-INTERVAL;VALUE=DURATION:PT1H
X-Robots-Tag:noindex
X-PUBLISHED-TTL:PT1H
BEGIN:VTIMEZONE
TZID:America/Chicago
BEGIN:DAYLIGHT
TZOFFSETFROM:-0600
TZOFFSETTO:-0500
TZNAME:CDT
DTSTART:20250309T080000
END:DAYLIGHT
BEGIN:STANDARD
TZOFFSETFROM:-0500
TZOFFSETTO:-0600
TZNAME:CST
DTSTART:20251102T070000
END:STANDARD
BEGIN:DAYLIGHT
TZOFFSETFROM:-0600
TZOFFSETTO:-0500
TZNAME:CDT
DTSTART:20260308T080000
END:DAYLIGHT
BEGIN:STANDARD
TZOFFSETFROM:-0500
TZOFFSETTO:-0600
TZNAME:CST
DTSTART:20261101T070000
END:STANDARD
BEGIN:DAYLIGHT
TZOFFSETFROM:-0600
TZOFFSETTO:-0500
TZNAME:CDT
DTSTART:20270314T080000
END:DAYLIGHT
BEGIN:STANDARD
TZOFFSETFROM:-0500
TZOFFSETTO:-0600
TZNAME:CST
DTSTART:20271107T070000
END:STANDARD
END:VTIMEZONE
BEGIN:VEVENT
DTSTART;TZID=America/Chicago:20260423T100000
DTEND;TZID=America/Chicago:20260423T110000
DTSTAMP:20260423T081634
CREATED:20240817T104449Z
LAST-MODIFIED:20250422T015011Z
UID:13340-1776938400-1776942000@www.stpeders.org
SUMMARY:Exercise Class
DESCRIPTION:
URL:https://www.stpeders.org/event/exercise-class-315/
END:VEVENT
BEGIN:VEVENT
DTSTART;TZID=America/Chicago:20260423T120000
DTEND;TZID=America/Chicago:20260423T180000
DTSTAMP:20260423T081634
CREATED:20260122T222250Z
LAST-MODIFIED:20260322T032020Z
UID:17091-1776945600-1776967200@www.stpeders.org
SUMMARY:Red Cross Blood Drive
DESCRIPTION:Fellowship Hall.
URL:https://www.stpeders.org/event/red-cross-blood-drive-2/
END:VEVENT
BEGIN:VEVENT
DTSTART;TZID=America/Chicago:20260423T190000
DTEND;TZID=America/Chicago:20260423T200000
DTSTAMP:20260423T081634
CREATED:20251218T175927Z
LAST-MODIFIED:20260322T032020Z
UID:16633-1776970800-1776974400@www.stpeders.org
SUMMARY:Choir Rehearsal
DESCRIPTION:
URL:https://www.stpeders.org/event/choir-rehearsal-46/
END:VEVENT
BEGIN:VEVENT
DTSTART;TZID=America/Chicago:20260425T103000
DTEND;TZID=America/Chicago:20260425T113000
DTSTAMP:20260423T081634
CREATED:20240817T104449Z
LAST-MODIFIED:20260322T032020Z
UID:13341-1777113000-1777116600@www.stpeders.org
SUMMARY:Brownies Group
DESCRIPTION:Large Upstairs Classroom/2nd and 4th Saturday of the month.
URL:https://www.stpeders.org/event/brownies-group-73/
END:VEVENT
BEGIN:VEVENT
DTSTART;TZID=America/Chicago:20260426T090000
DTEND;TZID=America/Chicago:20260426T100000
DTSTAMP:20260423T081634
CREATED:20250619T172004Z
LAST-MODIFIED:20250723T195219Z
UID:15446-1777194000-1777197600@www.stpeders.org
SUMMARY:Youth Faith Formation (after Children's Sermon)
DESCRIPTION:
URL:https://www.stpeders.org/event/youth-faith-formation-after-childrens-sermon-142/
END:VEVENT
BEGIN:VEVENT
DTSTART;TZID=America/Chicago:20260426T090000
DTEND;TZID=America/Chicago:20260426T100000
DTSTAMP:20260423T081634
CREATED:20250619T172004Z
LAST-MODIFIED:20260319T002032Z
UID:15447-1777194000-1777197600@www.stpeders.org
SUMMARY:Worship
DESCRIPTION:
URL:https://www.stpeders.org/event/worship-167/
END:VEVENT
BEGIN:VEVENT
DTSTART;TZID=America/Chicago:20260426T100000
DTEND;TZID=America/Chicago:20260426T110000
DTSTAMP:20260423T081634
CREATED:20250619T172004Z
LAST-MODIFIED:20260319T002032Z
UID:15448-1777197600-1777201200@www.stpeders.org
SUMMARY:Coffee and Fellowship
DESCRIPTION:
URL:https://www.stpeders.org/event/coffee-and-fellowship-161/
END:VEVENT
BEGIN:VEVENT
DTSTART;TZID=America/Chicago:20260428T100000
DTEND;TZID=America/Chicago:20260428T110000
DTSTAMP:20260423T081634
CREATED:20240817T104449Z
LAST-MODIFIED:20250422T015011Z
UID:13342-1777370400-1777374000@www.stpeders.org
SUMMARY:Exercise Class
DESCRIPTION:
URL:https://www.stpeders.org/event/exercise-class-316/
END:VEVENT
BEGIN:VEVENT
DTSTART;TZID=America/Chicago:20260428T180000
DTEND;TZID=America/Chicago:20260428T190000
DTSTAMP:20260423T081634
CREATED:20250619T172004Z
LAST-MODIFIED:20260319T002032Z
UID:15449-1777399200-1777402800@www.stpeders.org
SUMMARY:Bible Study
DESCRIPTION:
URL:https://www.stpeders.org/event/bible-study-163/
END:VEVENT
BEGIN:VEVENT
DTSTART;TZID=America/Chicago:20260428T190000
DTEND;TZID=America/Chicago:20260428T200000
DTSTAMP:20260423T081634
CREATED:20250724T195010Z
LAST-MODIFIED:20260319T002032Z
UID:15840-1777402800-1777406400@www.stpeders.org
SUMMARY:Prayer Service
DESCRIPTION:
URL:https://www.stpeders.org/event/prayer-service-40/
END:VEVENT
BEGIN:VEVENT
DTSTART;TZID=America/Chicago:20260430T100000
DTEND;TZID=America/Chicago:20260430T110000
DTSTAMP:20260423T081634
CREATED:20240817T104450Z
LAST-MODIFIED:20250422T015011Z
UID:13343-1777543200-1777546800@www.stpeders.org
SUMMARY:Exercise Class
DESCRIPTION:
URL:https://www.stpeders.org/event/exercise-class-317/
END:VEVENT
BEGIN:VEVENT
DTSTART;TZID=America/Chicago:20260430T190000
DTEND;TZID=America/Chicago:20260430T200000
DTSTAMP:20260423T081634
CREATED:20251218T175927Z
LAST-MODIFIED:20260322T032020Z
UID:16634-1777575600-1777579200@www.stpeders.org
SUMMARY:Choir Rehearsal
DESCRIPTION:
URL:https://www.stpeders.org/event/choir-rehearsal-47/
END:VEVENT
BEGIN:VEVENT
DTSTART;TZID=America/Chicago:20260502T140000
DTEND;TZID=America/Chicago:20260502T160000
DTSTAMP:20260423T081634
CREATED:20250619T172004Z
LAST-MODIFIED:20260319T002032Z
UID:15450-1777730400-1777737600@www.stpeders.org
SUMMARY:Fiber Arts/Fellowship Hall
DESCRIPTION:Meet in the conference room.
URL:https://www.stpeders.org/event/fiber-arts-fellowship-hall-75/
END:VEVENT
BEGIN:VEVENT
DTSTART;TZID=America/Chicago:20260503T090000
DTEND;TZID=America/Chicago:20260503T100000
DTSTAMP:20260423T081634
CREATED:20250619T172005Z
LAST-MODIFIED:20260319T002032Z
UID:15453-1777798800-1777802400@www.stpeders.org
SUMMARY:Worship
DESCRIPTION:
URL:https://www.stpeders.org/event/worship-168/
END:VEVENT
BEGIN:VEVENT
DTSTART;TZID=America/Chicago:20260503T090000
DTEND;TZID=America/Chicago:20260503T100000
DTSTAMP:20260423T081634
CREATED:20250619T172005Z
LAST-MODIFIED:20250723T195219Z
UID:15452-1777798800-1777802400@www.stpeders.org
SUMMARY:Youth Faith Formation (after Children's Sermon)
DESCRIPTION:
URL:https://www.stpeders.org/event/youth-faith-formation-after-childrens-sermon-143/
END:VEVENT
BEGIN:VEVENT
DTSTART;TZID=America/Chicago:20260503T100000
DTEND;TZID=America/Chicago:20260503T110000
DTSTAMP:20260423T081634
CREATED:20250619T172004Z
LAST-MODIFIED:20260319T002032Z
UID:15451-1777802400-1777806000@www.stpeders.org
SUMMARY:Coffee and Fellowship
DESCRIPTION:
URL:https://www.stpeders.org/event/coffee-and-fellowship-162/
END:VEVENT
BEGIN:VEVENT
DTSTART;TZID=America/Chicago:20260504T183000
DTEND;TZID=America/Chicago:20260504T213000
DTSTAMP:20260423T081634
CREATED:20260320T014941Z
LAST-MODIFIED:20260322T032020Z
UID:17410-1777919400-1777930200@www.stpeders.org
SUMMARY:Kith + Kin Rehearsal
DESCRIPTION:
URL:https://www.stpeders.org/event/kith-kin-rehearsal-31/
END:VEVENT
BEGIN:VEVENT
DTSTART;TZID=America/Chicago:20260505T100000
DTEND;TZID=America/Chicago:20260505T110000
DTSTAMP:20260423T081634
CREATED:20240817T104450Z
LAST-MODIFIED:20250422T015011Z
UID:13344-1777975200-1777978800@www.stpeders.org
SUMMARY:Exercise Class
DESCRIPTION:
URL:https://www.stpeders.org/event/exercise-class-318/
END:VEVENT
BEGIN:VEVENT
DTSTART;TZID=America/Chicago:20260505T180000
DTEND;TZID=America/Chicago:20260505T190000
DTSTAMP:20260423T081634
CREATED:20250619T172005Z
LAST-MODIFIED:20260319T002033Z
UID:15454-1778004000-1778007600@www.stpeders.org
SUMMARY:Bible Study
DESCRIPTION:
URL:https://www.stpeders.org/event/bible-study-164/
END:VEVENT
BEGIN:VEVENT
DTSTART;TZID=America/Chicago:20260505T180000
DTEND;TZID=America/Chicago:20260505T200000
DTSTAMP:20260423T081634
CREATED:20240817T104450Z
LAST-MODIFIED:20260322T032020Z
UID:13345-1778004000-1778011200@www.stpeders.org
SUMMARY:Sisters in Crime Meeting
DESCRIPTION:
URL:https://www.stpeders.org/event/sisters-in-crime-meeting-38/
END:VEVENT
BEGIN:VEVENT
DTSTART;TZID=America/Chicago:20260505T190000
DTEND;TZID=America/Chicago:20260505T200000
DTSTAMP:20260423T081634
CREATED:20250724T195010Z
LAST-MODIFIED:20260319T002033Z
UID:15841-1778007600-1778011200@www.stpeders.org
SUMMARY:Prayer Service
DESCRIPTION:
URL:https://www.stpeders.org/event/prayer-service-41/
END:VEVENT
BEGIN:VEVENT
DTSTART;TZID=America/Chicago:20260506T090000
DTEND;TZID=America/Chicago:20260506T120000
DTSTAMP:20260423T081634
CREATED:20250619T172005Z
LAST-MODIFIED:20260319T002033Z
UID:15455-1778058000-1778068800@www.stpeders.org
SUMMARY:Quilters
DESCRIPTION:
URL:https://www.stpeders.org/event/quilters-75/
END:VEVENT
BEGIN:VEVENT
DTSTART;TZID=America/Chicago:20260507T100000
DTEND;TZID=America/Chicago:20260507T110000
DTSTAMP:20260423T081634
CREATED:20240817T104451Z
LAST-MODIFIED:20250422T015012Z
UID:13346-1778148000-1778151600@www.stpeders.org
SUMMARY:Exercise Class
DESCRIPTION:
URL:https://www.stpeders.org/event/exercise-class-319/
END:VEVENT
BEGIN:VEVENT
DTSTART;TZID=America/Chicago:20260507T190000
DTEND;TZID=America/Chicago:20260507T200000
DTSTAMP:20260423T081634
CREATED:20251218T175927Z
LAST-MODIFIED:20260319T002033Z
UID:16635-1778180400-1778184000@www.stpeders.org
SUMMARY:Songwriter Showcase
DESCRIPTION:
URL:https://www.stpeders.org/event/songwriter-showcase-7/
END:VEVENT
BEGIN:VEVENT
DTSTART;TZID=America/Chicago:20260509T103000
DTEND;TZID=America/Chicago:20260509T113000
DTSTAMP:20260423T081634
CREATED:20240817T104451Z
LAST-MODIFIED:20260322T032020Z
UID:13347-1778322600-1778326200@www.stpeders.org
SUMMARY:Brownies Group
DESCRIPTION:Upstairs Classroom. 2nd and 4th Saturday of the month.
URL:https://www.stpeders.org/event/brownies-group-74/
END:VEVENT
BEGIN:VEVENT
DTSTART;VALUE=DATE:20260510
DTEND;VALUE=DATE:20260511
DTSTAMP:20260423T081634
CREATED:20250619T172005Z
LAST-MODIFIED:20260319T002034Z
UID:15457-1778371200-1778457599@www.stpeders.org
SUMMARY:Last Day of Youth Faith Formation
DESCRIPTION:
URL:https://www.stpeders.org/event/last-day-of-youth-faith-formation-4/
END:VEVENT
BEGIN:VEVENT
DTSTART;TZID=America/Chicago:20260510T090000
DTEND;TZID=America/Chicago:20260510T100000
DTSTAMP:20260423T081634
CREATED:20250619T172005Z
LAST-MODIFIED:20250723T195219Z
UID:15456-1778403600-1778407200@www.stpeders.org
SUMMARY:Youth Faith Formation (after Children's Sermon)
DESCRIPTION:
URL:https://www.stpeders.org/event/youth-faith-formation-after-childrens-sermon-144/
END:VEVENT
BEGIN:VEVENT
DTSTART;TZID=America/Chicago:20260510T090000
DTEND;TZID=America/Chicago:20260510T100000
DTSTAMP:20260423T081634
CREATED:20250619T172005Z
LAST-MODIFIED:20260319T002034Z
UID:15458-1778403600-1778407200@www.stpeders.org
SUMMARY:Worship
DESCRIPTION:
URL:https://www.stpeders.org/event/worship-169/
END:VEVENT
BEGIN:VEVENT
DTSTART;TZID=America/Chicago:20260510T100000
DTEND;TZID=America/Chicago:20260510T110000
DTSTAMP:20260423T081634
CREATED:20250619T172005Z
LAST-MODIFIED:20260319T002033Z
UID:15459-1778407200-1778410800@www.stpeders.org
SUMMARY:Coffee and Fellowship
DESCRIPTION:
URL:https://www.stpeders.org/event/coffee-and-fellowship-163/
END:VEVENT
BEGIN:VEVENT
DTSTART;TZID=America/Chicago:20260511T183000
DTEND;TZID=America/Chicago:20260511T213000
DTSTAMP:20260423T081634
CREATED:20260320T014941Z
LAST-MODIFIED:20260322T032020Z
UID:17411-1778524200-1778535000@www.stpeders.org
SUMMARY:Kith + Kin Rehearsal
DESCRIPTION:
URL:https://www.stpeders.org/event/kith-kin-rehearsal-32/
END:VEVENT
END:VCALENDAR